{
 "currentVersion": 10.91,
 "serviceDescription": "2004 NAIP Aerial Imagery",
 "name": "NAIP2004",
 "description": "2004 NAIP Aerial Imagery",
 "extent": {
  "xmin": 1370699.2366598076,
  "ymin": 326017.9928599398,
  "xmax": 1910132.9351568697,
  "ymax": 852395.697092134,
  "spatialReference": {
   "wkid": 102669,
   "latestWkid": 2242
  }
 },
 "initialExtent": {
  "xmin": 1370699.2366598076,
  "ymin": 326017.9928599398,
  "xmax": 1910132.9351568697,
  "ymax": 852395.697092134,
  "spatialReference": {
   "wkid": 102669,
   "latestWkid": 2242
  }
 },
 "fullExtent": {
  "xmin": 1370699.2366598076,
  "ymin": 326017.9928599398,
  "xmax": 1910132.9351568697,
  "ymax": 852395.697092134,
  "spatialReference": {
   "wkid": 102669,
   "latestWkid": 2242
  }
 },
 "hasMultidimensions": false,
 "pixelSizeX": 2.9058522735072323,
 "pixelSizeY": 2.905852273507233,
 "datasetFormat": "FGDBR",
 "uncompressedSize": 100881086184,
 "blockWidth": 128,
 "blockHeight": 128,
 "compressionType": "JPEG",
 "bandNames": [
  "Band_1",
  "Band_2",
  "Band_3"
 ],
 "allowCopy": true,
 "allowAnalysis": true,
 "bandCount": 3,
 "pixelType": "U8",
 "minPixelSize": 0,
 "maxPixelSize": 0,
 "copyrightText": "",
 "serviceDataType": "esriImageServiceDataTypeRGB",
 "serviceSourceType": "esriImageServiceSourceTypeDataset",
 "minValues": [
  0,
  0,
  0
 ],
 "maxValues": [
  255,
  255,
  255
 ],
 "meanValues": [
  135.63180684296586,
  129.81335869119903,
  108.99899830775944
 ],
 "stdvValues": [
  38.98808165192256,
  27.541530063748944,
  19.82964345277969
 ],
 "objectIdField": "",
 "fields": [],
 "capabilities": "Image,Metadata,Mensuration",
 "defaultMosaicMethod": "Center",
 "allowedMosaicMethods": "",
 "sortField": "",
 "sortValue": null,
 "sortAscending": true,
 "mosaicOperator": "First",
 "defaultCompressionQuality": 75,
 "defaultResamplingMethod": "Bilinear",
 "maxImageHeight": 4100,
 "maxImageWidth": 15000,
 "allowRasterFunction": true,
 "rasterFunctionInfos": [
  {
   "name": "None",
   "description": "",
   "help": ""
  }
 ],
 "rasterTypeInfos": [
  {
   "name": "Raster Dataset",
   "description": "Supports all ArcGIS Raster Datasets",
   "help": ""
  }
 ],
 "mensurationCapabilities": "Basic",
 "hasHistograms": true,
 "hasColormap": false,
 "hasRasterAttributeTable": false,
 "minScale": 0,
 "maxScale": 0,
 "exportTilesAllowed": false,
 "supportsStatistics": false,
 "supportsAdvancedQueries": false,
 "editFieldsInfo": null,
 "ownershipBasedAccessControlForRasters": null,
 "allowComputeTiePoints": false,
 "useStandardizedQueries": true,
 "advancedQueryCapabilities": {
  "useStandardizedQueries": true,
  "supportsStatistics": false,
  "supportsOrderBy": false,
  "supportsDistinct": false,
  "supportsPagination": false
 },
 "spatialReference": {
  "wkid": 102669,
  "latestWkid": 2242
 }
}
