{
 "currentVersion": 10.91,
 "serviceDescription": "2011 NAIP Imagery Service",
 "name": "NAIP2011",
 "description": "2011 NAIP Imagery Service",
 "extent": {
  "xmin": 1357922.641484205,
  "ymin": 322897.36897062,
  "xmax": 1921015.3473175382,
  "ymax": 854280.8206372868,
  "spatialReference": {
   "wkid": 102669,
   "latestWkid": 2242
  }
 },
 "initialExtent": {
  "xmin": 1357922.641484205,
  "ymin": 322897.36897062,
  "xmax": 1921015.3473175382,
  "ymax": 854280.8206372868,
  "spatialReference": {
   "wkid": 102669,
   "latestWkid": 2242
  }
 },
 "fullExtent": {
  "xmin": 1357922.641484205,
  "ymin": 322897.36897062,
  "xmax": 1921015.3473175382,
  "ymax": 854280.8206372868,
  "spatialReference": {
   "wkid": 102669,
   "latestWkid": 2242
  }
 },
 "hasMultidimensions": false,
 "pixelSizeX": 3.2808333333333333,
 "pixelSizeY": 3.280833333333334,
 "datasetFormat": "FGDBR",
 "uncompressedSize": 83395159638,
 "blockWidth": 128,
 "blockHeight": 128,
 "compressionType": "JPEG",
 "bandNames": [
  "Band_1",
  "Band_2",
  "Band_3"
 ],
 "allowCopy": true,
 "allowAnalysis": true,
 "bandCount": 3,
 "pixelType": "U8",
 "minPixelSize": 0,
 "maxPixelSize": 0,
 "copyrightText": "",
 "serviceDataType": "esriImageServiceDataTypeRGB",
 "serviceSourceType": "esriImageServiceSourceTypeDataset",
 "minValues": [
  0,
  0,
  0
 ],
 "maxValues": [
  255,
  255,
  255
 ],
 "meanValues": [
  111.12924085549109,
  112.7420723762299,
  96.7373198789281
 ],
 "stdvValues": [
  46.88962817083418,
  39.3268724960982,
  33.85735124911515
 ],
 "objectIdField": "",
 "fields": [],
 "capabilities": "Image,Metadata,Mensuration",
 "defaultMosaicMethod": "Center",
 "allowedMosaicMethods": "",
 "sortField": "",
 "sortValue": null,
 "sortAscending": true,
 "mosaicOperator": "First",
 "defaultCompressionQuality": 75,
 "defaultResamplingMethod": "Bilinear",
 "maxImageHeight": 4100,
 "maxImageWidth": 15000,
 "allowRasterFunction": true,
 "rasterFunctionInfos": [
  {
   "name": "None",
   "description": "",
   "help": ""
  }
 ],
 "rasterTypeInfos": [
  {
   "name": "Raster Dataset",
   "description": "Supports all ArcGIS Raster Datasets",
   "help": ""
  }
 ],
 "mensurationCapabilities": "Basic",
 "hasHistograms": true,
 "hasColormap": false,
 "hasRasterAttributeTable": false,
 "minScale": 0,
 "maxScale": 0,
 "exportTilesAllowed": false,
 "supportsStatistics": false,
 "supportsAdvancedQueries": false,
 "editFieldsInfo": null,
 "ownershipBasedAccessControlForRasters": null,
 "allowComputeTiePoints": false,
 "useStandardizedQueries": true,
 "advancedQueryCapabilities": {
  "useStandardizedQueries": true,
  "supportsStatistics": false,
  "supportsOrderBy": false,
  "supportsDistinct": false,
  "supportsPagination": false
 },
 "spatialReference": {
  "wkid": 102669,
  "latestWkid": 2242
 }
}
