{
 "currentVersion": 10.91,
 "serviceDescription": "Hillshade background service",
 "name": "ShadedRelief",
 "description": "Hillshade background service",
 "extent": {
  "xmin": 1367389.2955879732,
  "ymin": 298359.41515556886,
  "xmax": 1915150.6639373363,
  "ymax": 857213.8537567045,
  "spatialReference": {
   "wkid": 102669,
   "latestWkid": 2242
  }
 },
 "initialExtent": {
  "xmin": 1367389.2955879732,
  "ymin": 298359.41515556886,
  "xmax": 1915150.6639373363,
  "ymax": 857213.8537567045,
  "spatialReference": {
   "wkid": 102669,
   "latestWkid": 2242
  }
 },
 "fullExtent": {
  "xmin": 1367389.2955879732,
  "ymin": 298359.41515556886,
  "xmax": 1915150.6639373363,
  "ymax": 857213.8537567045,
  "spatialReference": {
   "wkid": 102669,
   "latestWkid": 2242
  }
 },
 "hasMultidimensions": false,
 "pixelSizeX": 32.819734472700006,
 "pixelSizeY": 32.8197344727,
 "datasetFormat": "FGDBR",
 "uncompressedSize": 852591960,
 "blockWidth": 128,
 "blockHeight": 128,
 "compressionType": "LZ77",
 "bandNames": [
  "Band_1",
  "Band_2",
  "Band_3"
 ],
 "allowCopy": true,
 "allowAnalysis": true,
 "bandCount": 3,
 "pixelType": "U8",
 "minPixelSize": 0,
 "maxPixelSize": 0,
 "copyrightText": "",
 "serviceDataType": "esriImageServiceDataTypeRGB",
 "serviceSourceType": "esriImageServiceSourceTypeDataset",
 "minValues": [
  0,
  0,
  0
 ],
 "maxValues": [
  255,
  255,
  255
 ],
 "meanValues": [
  107.74253285710084,
  107.74253285710084,
  107.74253285710084
 ],
 "stdvValues": [
  49.74308074067288,
  49.74308074067288,
  49.74308074067288
 ],
 "objectIdField": "",
 "fields": [],
 "capabilities": "Image,Metadata,Mensuration",
 "defaultMosaicMethod": "Center",
 "allowedMosaicMethods": "",
 "sortField": "",
 "sortValue": null,
 "sortAscending": true,
 "mosaicOperator": "First",
 "defaultCompressionQuality": 75,
 "defaultResamplingMethod": "Bilinear",
 "maxImageHeight": 4100,
 "maxImageWidth": 15000,
 "allowRasterFunction": true,
 "rasterFunctionInfos": [
  {
   "name": "None",
   "description": "",
   "help": ""
  }
 ],
 "rasterTypeInfos": [
  {
   "name": "Raster Dataset",
   "description": "Supports all ArcGIS Raster Datasets",
   "help": ""
  }
 ],
 "mensurationCapabilities": "Basic",
 "hasHistograms": true,
 "hasColormap": false,
 "hasRasterAttributeTable": false,
 "minScale": 0,
 "maxScale": 0,
 "exportTilesAllowed": false,
 "supportsStatistics": false,
 "supportsAdvancedQueries": false,
 "editFieldsInfo": null,
 "ownershipBasedAccessControlForRasters": null,
 "allowComputeTiePoints": false,
 "useStandardizedQueries": true,
 "advancedQueryCapabilities": {
  "useStandardizedQueries": true,
  "supportsStatistics": false,
  "supportsOrderBy": false,
  "supportsDistinct": false,
  "supportsPagination": false
 },
 "spatialReference": {
  "wkid": 102669,
  "latestWkid": 2242
 }
}
