{
 "currentVersion": 10.91,
 "serviceDescription": "The Digital Raster Graphic (DRG) is a scanned image of a US Geological Survey (USGS) standard series topographic map that includes all collar information (e.g., legend, scale bar, index map, etc.) The DRGE is a non-proprietary product of a USGS DRG in which the map collar information has been removed.",
 "name": "USGSTopos",
 "description": "The Digital Raster Graphic (DRG) is a scanned image of a US Geological Survey (USGS) standard series topographic map that includes all collar information (e.g., legend, scale bar, index map, etc.) The DRGE is a non-proprietary product of a USGS DRG in which the map collar information has been removed.",
 "extent": {
  "xmin": 1325049.387446522,
  "ymin": 298845.5261797436,
  "xmax": 1956264.1250145203,
  "ymax": 900364.323139742,
  "spatialReference": {
   "wkid": 102669,
   "latestWkid": 2242
  }
 },
 "initialExtent": {
  "xmin": 1325049.387446522,
  "ymin": 298845.5261797436,
  "xmax": 1956264.1250145203,
  "ymax": 900364.323139742,
  "spatialReference": {
   "wkid": 102669,
   "latestWkid": 2242
  }
 },
 "fullExtent": {
  "xmin": 1325049.387446522,
  "ymin": 298845.5261797436,
  "xmax": 1956264.1250145203,
  "ymax": 900364.323139742,
  "spatialReference": {
   "wkid": 102669,
   "latestWkid": 2242
  }
 },
 "hasMultidimensions": false,
 "pixelSizeX": 7.999983999999977,
 "pixelSizeY": 7.999983999999979,
 "datasetFormat": "FGDBR",
 "uncompressedSize": 17797924140,
 "blockWidth": 128,
 "blockHeight": 128,
 "compressionType": "LZ77",
 "bandNames": [
  "Band_1",
  "Band_2",
  "Band_3"
 ],
 "allowCopy": true,
 "allowAnalysis": true,
 "bandCount": 3,
 "pixelType": "U8",
 "minPixelSize": 0,
 "maxPixelSize": 0,
 "copyrightText": "",
 "serviceDataType": "esriImageServiceDataTypeRGB",
 "serviceSourceType": "esriImageServiceSourceTypeDataset",
 "minValues": [
  0,
  0,
  0
 ],
 "maxValues": [
  255,
  255,
  255
 ],
 "meanValues": [
  242.99441267705953,
  242.14860705049608,
  236.61449991327936
 ],
 "stdvValues": [
  33.606424822436914,
  36.85578288795496,
  45.6815045142421
 ],
 "objectIdField": "",
 "fields": [],
 "capabilities": "Image,Metadata,Mensuration",
 "defaultMosaicMethod": "Center",
 "allowedMosaicMethods": "",
 "sortField": "",
 "sortValue": null,
 "sortAscending": true,
 "mosaicOperator": "First",
 "defaultCompressionQuality": 75,
 "defaultResamplingMethod": "Bilinear",
 "maxImageHeight": 4100,
 "maxImageWidth": 15000,
 "allowRasterFunction": true,
 "rasterFunctionInfos": [
  {
   "name": "None",
   "description": "",
   "help": ""
  }
 ],
 "rasterTypeInfos": [
  {
   "name": "Raster Dataset",
   "description": "Supports all ArcGIS Raster Datasets",
   "help": ""
  }
 ],
 "mensurationCapabilities": "Basic",
 "hasHistograms": true,
 "hasColormap": false,
 "hasRasterAttributeTable": false,
 "minScale": 0,
 "maxScale": 0,
 "exportTilesAllowed": false,
 "supportsStatistics": false,
 "supportsAdvancedQueries": false,
 "editFieldsInfo": null,
 "ownershipBasedAccessControlForRasters": null,
 "allowComputeTiePoints": false,
 "useStandardizedQueries": true,
 "advancedQueryCapabilities": {
  "useStandardizedQueries": true,
  "supportsStatistics": false,
  "supportsOrderBy": false,
  "supportsDistinct": false,
  "supportsPagination": false
 },
 "spatialReference": {
  "wkid": 102669,
  "latestWkid": 2242
 }
}
