View In:
ArcGIS JavaScript
ArcGIS Online Map Viewer
ArcGIS Earth
ArcMap
View Footprint In:
ArcGIS Online Map Viewer
Service Description: NAIP 2009 Aerial Photos
Name: NAIP2009
Description: NAIP 2009 Aerial Photos
Single Fused Map Cache: false
Extent:
XMin: 1342635.9602745369
YMin: 323557.72106708854
XMax: 1924803.4311078703
YMax: 853953.6419004219
Spatial Reference: 102669
(2242)
Initial Extent:
XMin: 1342635.9602745369
YMin: 323557.72106708854
XMax: 1924803.4311078703
YMax: 853953.6419004219
Spatial Reference: 102669
(2242)
Full Extent:
XMin: 1342635.9602745369
YMin: 323557.72106708854
XMax: 1924803.4311078703
YMax: 853953.6419004219
Spatial Reference: 102669
(2242)
Pixel Size X: 3.280833333333334
Pixel Size Y: 3.2808333333333337
Band Count: 3
Pixel Type: U8
RasterFunction Infos: {"rasterFunctionInfos": [{
"name": "None",
"description": "",
"help": ""
}]}
Mensuration Capabilities: Basic
Has Histograms: true
Has Colormap: false
Has Multi Dimensions : false
Rendering Rule:
Min Scale: 0
Max Scale: 0
Copyright Text:
Service Data Type: esriImageServiceDataTypeRGB
Min Values: 0, 0, 0
Max Values: 255, 255, 255
Mean Values: 122.79829372207972, 119.68870754437373, 109.94841063946087
Standard Deviation Values: 42.01348161525823, 37.543667714126485, 33.18663388624497
Object ID Field:
Fields:
None
Default Mosaic Method: Center
Allowed Mosaic Methods:
SortField:
SortValue: null
Mosaic Operator: First
Default Compression Quality: 75
Default Resampling Method: Bilinear
Max Record Count: null
Max Image Height: 4100
Max Image Width: 15000
Max Download Image Count: null
Max Mosaic Image Count: null
Allow Raster Function: true
Allow Copy: true
Allow Analysis: true
Allow Compute TiePoints: false
Supports Statistics: false
Supports Advanced Queries: false
Use StandardizedQueries: true
Raster Type Infos:
Name: Raster Dataset
Description: Supports all ArcGIS Raster Datasets
Help:
Has Raster Attribute Table: false
Edit Fields Info: null
Ownership Based AccessControl For Rasters: null
Child Resources:
Info
Histograms
Statistics
Key Properties
Legend
Raster Function Infos
Supported Operations:
Export Image
Identify
Measure
Compute Histograms
Compute Statistics Histograms
Get Samples
Compute Class Statistics
Query Boundary
Compute Pixel Location
Compute Angles
Validate
Project