View In:
ArcGIS JavaScript
ArcGIS Online Map Viewer
ArcGIS Earth
ArcMap
View Footprint In:
ArcGIS Online Map Viewer
Service Description: 2004 NAIP Aerial Imagery
Name: NAIP2004
Description: 2004 NAIP Aerial Imagery
Single Fused Map Cache: false
Extent:
XMin: 1370699.2366598076
YMin: 326017.9928599398
XMax: 1910132.9351568697
YMax: 852395.697092134
Spatial Reference: 102669
(2242)
Initial Extent:
XMin: 1370699.2366598076
YMin: 326017.9928599398
XMax: 1910132.9351568697
YMax: 852395.697092134
Spatial Reference: 102669
(2242)
Full Extent:
XMin: 1370699.2366598076
YMin: 326017.9928599398
XMax: 1910132.9351568697
YMax: 852395.697092134
Spatial Reference: 102669
(2242)
Pixel Size X: 2.9058522735072323
Pixel Size Y: 2.905852273507233
Band Count: 3
Pixel Type: U8
RasterFunction Infos: {"rasterFunctionInfos": [{
"name": "None",
"description": "",
"help": ""
}]}
Mensuration Capabilities: Basic
Has Histograms: true
Has Colormap: false
Has Multi Dimensions : false
Rendering Rule:
Min Scale: 0
Max Scale: 0
Copyright Text:
Service Data Type: esriImageServiceDataTypeRGB
Min Values: 0, 0, 0
Max Values: 255, 255, 255
Mean Values: 135.63180684296586, 129.81335869119903, 108.99899830775944
Standard Deviation Values: 38.98808165192256, 27.541530063748944, 19.82964345277969
Object ID Field:
Fields:
None
Default Mosaic Method: Center
Allowed Mosaic Methods:
SortField:
SortValue: null
Mosaic Operator: First
Default Compression Quality: 75
Default Resampling Method: Bilinear
Max Record Count: null
Max Image Height: 4100
Max Image Width: 15000
Max Download Image Count: null
Max Mosaic Image Count: null
Allow Raster Function: true
Allow Copy: true
Allow Analysis: true
Allow Compute TiePoints: false
Supports Statistics: false
Supports Advanced Queries: false
Use StandardizedQueries: true
Raster Type Infos:
Name: Raster Dataset
Description: Supports all ArcGIS Raster Datasets
Help:
Has Raster Attribute Table: false
Edit Fields Info: null
Ownership Based AccessControl For Rasters: null
Child Resources:
Info
Histograms
Statistics
Key Properties
Legend
Raster Function Infos
Supported Operations:
Export Image
Identify
Measure
Compute Histograms
Compute Statistics Histograms
Get Samples
Compute Class Statistics
Query Boundary
Compute Pixel Location
Compute Angles
Validate
Project