View In:
ArcGIS JavaScript
ArcGIS Online Map Viewer
ArcGIS Earth
ArcMap
View Footprint In:
ArcGIS Online Map Viewer
Service Description: 2011 NAIP Imagery Service
Name: NAIP2011
Description: 2011 NAIP Imagery Service
Single Fused Map Cache: false
Extent:
XMin: 1357922.641484205
YMin: 322897.36897062
XMax: 1921015.3473175382
YMax: 854280.8206372868
Spatial Reference: 102669
(2242)
Initial Extent:
XMin: 1357922.641484205
YMin: 322897.36897062
XMax: 1921015.3473175382
YMax: 854280.8206372868
Spatial Reference: 102669
(2242)
Full Extent:
XMin: 1357922.641484205
YMin: 322897.36897062
XMax: 1921015.3473175382
YMax: 854280.8206372868
Spatial Reference: 102669
(2242)
Pixel Size X: 3.2808333333333333
Pixel Size Y: 3.280833333333334
Band Count: 3
Pixel Type: U8
RasterFunction Infos: {"rasterFunctionInfos": [{
"name": "None",
"description": "",
"help": ""
}]}
Mensuration Capabilities: Basic
Has Histograms: true
Has Colormap: false
Has Multi Dimensions : false
Rendering Rule:
Min Scale: 0
Max Scale: 0
Copyright Text:
Service Data Type: esriImageServiceDataTypeRGB
Min Values: 0, 0, 0
Max Values: 255, 255, 255
Mean Values: 111.12924085549109, 112.7420723762299, 96.7373198789281
Standard Deviation Values: 46.88962817083418, 39.3268724960982, 33.85735124911515
Object ID Field:
Fields:
None
Default Mosaic Method: Center
Allowed Mosaic Methods:
SortField:
SortValue: null
Mosaic Operator: First
Default Compression Quality: 75
Default Resampling Method: Bilinear
Max Record Count: null
Max Image Height: 4100
Max Image Width: 15000
Max Download Image Count: null
Max Mosaic Image Count: null
Allow Raster Function: true
Allow Copy: true
Allow Analysis: true
Allow Compute TiePoints: false
Supports Statistics: false
Supports Advanced Queries: false
Use StandardizedQueries: true
Raster Type Infos:
Name: Raster Dataset
Description: Supports all ArcGIS Raster Datasets
Help:
Has Raster Attribute Table: false
Edit Fields Info: null
Ownership Based AccessControl For Rasters: null
Child Resources:
Info
Histograms
Statistics
Key Properties
Legend
Raster Function Infos
Supported Operations:
Export Image
Identify
Measure
Compute Histograms
Compute Statistics Histograms
Get Samples
Compute Class Statistics
Query Boundary
Compute Pixel Location
Compute Angles
Validate
Project