View In:
ArcGIS JavaScript
ArcGIS Online Map Viewer
ArcGIS Earth
ArcMap
View Footprint In:
ArcGIS Online Map Viewer
Service Description: Hillshade background service
Name: ShadedRelief
Description: Hillshade background service
Single Fused Map Cache: false
Extent:
XMin: 1367389.2955879732
YMin: 298359.41515556886
XMax: 1915150.6639373363
YMax: 857213.8537567045
Spatial Reference: 102669
(2242)
Initial Extent:
XMin: 1367389.2955879732
YMin: 298359.41515556886
XMax: 1915150.6639373363
YMax: 857213.8537567045
Spatial Reference: 102669
(2242)
Full Extent:
XMin: 1367389.2955879732
YMin: 298359.41515556886
XMax: 1915150.6639373363
YMax: 857213.8537567045
Spatial Reference: 102669
(2242)
Pixel Size X: 32.819734472700006
Pixel Size Y: 32.8197344727
Band Count: 3
Pixel Type: U8
RasterFunction Infos: {"rasterFunctionInfos": [{
"name": "None",
"description": "",
"help": ""
}]}
Mensuration Capabilities: Basic
Has Histograms: true
Has Colormap: false
Has Multi Dimensions : false
Rendering Rule:
Min Scale: 0
Max Scale: 0
Copyright Text:
Service Data Type: esriImageServiceDataTypeRGB
Min Values: 0, 0, 0
Max Values: 255, 255, 255
Mean Values: 107.74253285710084, 107.74253285710084, 107.74253285710084
Standard Deviation Values: 49.74308074067288, 49.74308074067288, 49.74308074067288
Object ID Field:
Fields:
None
Default Mosaic Method: Center
Allowed Mosaic Methods:
SortField:
SortValue: null
Mosaic Operator: First
Default Compression Quality: 75
Default Resampling Method: Bilinear
Max Record Count: null
Max Image Height: 4100
Max Image Width: 15000
Max Download Image Count: null
Max Mosaic Image Count: null
Allow Raster Function: true
Allow Copy: true
Allow Analysis: true
Allow Compute TiePoints: false
Supports Statistics: false
Supports Advanced Queries: false
Use StandardizedQueries: true
Raster Type Infos:
Name: Raster Dataset
Description: Supports all ArcGIS Raster Datasets
Help:
Has Raster Attribute Table: false
Edit Fields Info: null
Ownership Based AccessControl For Rasters: null
Child Resources:
Info
Histograms
Statistics
Key Properties
Legend
Raster Function Infos
Supported Operations:
Export Image
Identify
Measure
Compute Histograms
Compute Statistics Histograms
Get Samples
Compute Class Statistics
Query Boundary
Compute Pixel Location
Compute Angles
Validate
Project