View In:
ArcGIS JavaScript
ArcGIS Online Map Viewer
ArcGIS Earth
ArcMap
View Footprint In:
ArcGIS Online Map Viewer
Service Description: The Digital Raster Graphic (DRG) is a scanned image of a US Geological Survey (USGS) standard series topographic map that includes all collar information (e.g., legend, scale bar, index map, etc.) The DRGE is a non-proprietary product of a USGS DRG in which the map collar information has been removed.
Name: USGSTopos
Description: The Digital Raster Graphic (DRG) is a scanned image of a US Geological Survey (USGS) standard series topographic map that includes all collar information (e.g., legend, scale bar, index map, etc.) The DRGE is a non-proprietary product of a USGS DRG in which the map collar information has been removed.
Single Fused Map Cache: false
Extent:
XMin: 1325049.387446522
YMin: 298845.5261797436
XMax: 1956264.1250145203
YMax: 900364.323139742
Spatial Reference: 102669
(2242)
Initial Extent:
XMin: 1325049.387446522
YMin: 298845.5261797436
XMax: 1956264.1250145203
YMax: 900364.323139742
Spatial Reference: 102669
(2242)
Full Extent:
XMin: 1325049.387446522
YMin: 298845.5261797436
XMax: 1956264.1250145203
YMax: 900364.323139742
Spatial Reference: 102669
(2242)
Pixel Size X: 7.999983999999977
Pixel Size Y: 7.999983999999979
Band Count: 3
Pixel Type: U8
RasterFunction Infos: {"rasterFunctionInfos": [{
"name": "None",
"description": "",
"help": ""
}]}
Mensuration Capabilities: Basic
Has Histograms: true
Has Colormap: false
Has Multi Dimensions : false
Rendering Rule:
Min Scale: 0
Max Scale: 0
Copyright Text:
Service Data Type: esriImageServiceDataTypeRGB
Min Values: 0, 0, 0
Max Values: 255, 255, 255
Mean Values: 242.99441267705953, 242.14860705049608, 236.61449991327936
Standard Deviation Values: 33.606424822436914, 36.85578288795496, 45.6815045142421
Object ID Field:
Fields:
None
Default Mosaic Method: Center
Allowed Mosaic Methods:
SortField:
SortValue: null
Mosaic Operator: First
Default Compression Quality: 75
Default Resampling Method: Bilinear
Max Record Count: null
Max Image Height: 4100
Max Image Width: 15000
Max Download Image Count: null
Max Mosaic Image Count: null
Allow Raster Function: true
Allow Copy: true
Allow Analysis: true
Allow Compute TiePoints: false
Supports Statistics: false
Supports Advanced Queries: false
Use StandardizedQueries: true
Raster Type Infos:
Name: Raster Dataset
Description: Supports all ArcGIS Raster Datasets
Help:
Has Raster Attribute Table: false
Edit Fields Info: null
Ownership Based AccessControl For Rasters: null
Child Resources:
Info
Histograms
Statistics
Key Properties
Legend
Raster Function Infos
Supported Operations:
Export Image
Identify
Measure
Compute Histograms
Compute Statistics Histograms
Get Samples
Compute Class Statistics
Query Boundary
Compute Pixel Location
Compute Angles
Validate
Project